BEGIN:VCALENDAR
VERSION:2.0
PRODID:-//ZContent.net//ZapCalLib 1.0//EN
CALSCALE:GREGORIAN
METHOD:PUBLISH
BEGIN:VEVENT
SUMMARY:Quiz
DTSTART:20201107T140500
DTEND:20201107T151500
UID:Quiz5847_1777133471
DTSTAMP:20260425T161111
Description:
END:VEVENT
END:VCALENDAR
