BEGIN:VCALENDAR
VERSION:2.0
PRODID:-//ZContent.net//ZapCalLib 1.0//EN
CALSCALE:GREGORIAN
METHOD:PUBLISH
BEGIN:VEVENT
SUMMARY:Dermoskopia zmian nowotworowych w obrÄ™bie aparatu paznokciowego â€
 ” onychoskopia
DTSTART:20201107T134500
DTEND:20201107T150500
UID:Dermoskopia zmian nowotworowych w obrÄ™bie aparatu paznokciowego â€” on
 ychoskopia5846_1777133213
DTSTAMP:20260425T160653
Description:
END:VEVENT
END:VCALENDAR
