BEGIN:VCALENDAR
VERSION:2.0
PRODID:-//ZContent.net//ZapCalLib 1.0//EN
CALSCALE:GREGORIAN
METHOD:PUBLISH
BEGIN:VEVENT
SUMMARY:Dermoskopia zmian w obrębie błon śluzowych — mukoskopia
DTSTART:20201107T132500
DTEND:20201107T144500
UID:Dermoskopia zmian w obrębie błon śluzowych — mukoskopia5844_177713
 3752
DTSTAMP:20260425T161552
Description:
END:VEVENT
END:VCALENDAR
