BEGIN:VCALENDAR
VERSION:2.0
PRODID:-//ZContent.net//ZapCalLib 1.0//EN
CALSCALE:GREGORIAN
METHOD:PUBLISH
BEGIN:VEVENT
SUMMARY:Przydatkowiaki w dermoskopii
DTSTART:20201107T123500
DTEND:20201107T135500
UID:Przydatkowiaki w dermoskopii5842_1777133517
DTSTAMP:20260425T161157
Description:
END:VEVENT
END:VCALENDAR
