BEGIN:VCALENDAR
VERSION:2.0
PRODID:-//ZContent.net//ZapCalLib 1.0//EN
CALSCALE:GREGORIAN
METHOD:PUBLISH
BEGIN:VEVENT
SUMMARY:Czerwone symulatory czerniaka
DTSTART:20201107T122000
DTEND:20201107T133500
UID:Czerwone symulatory czerniaka5841_1776876534
DTSTAMP:20260422T164854
Description:
END:VEVENT
END:VCALENDAR
