BEGIN:VCALENDAR
VERSION:2.0
PRODID:-//ZContent.net//ZapCalLib 1.0//EN
CALSCALE:GREGORIAN
METHOD:PUBLISH
BEGIN:VEVENT
SUMMARY:Czarne symulatory czerniaka
DTSTART:20201107T120500
DTEND:20201107T132000
UID:Czarne symulatory czerniaka5840_1776764971
DTSTAMP:20260421T094931
Description:
END:VEVENT
END:VCALENDAR
