BEGIN:VCALENDAR
VERSION:2.0
PRODID:-//ZContent.net//ZapCalLib 1.0//EN
CALSCALE:GREGORIAN
METHOD:PUBLISH
BEGIN:VEVENT
SUMMARY:Podstawy diagnostyki dermoskopowej raków podstawnokomórkowych, ko
 lczystokomórkowych i chłoniaków
DTSTART:20201107T112500
DTEND:20201107T130500
UID:Podstawy diagnostyki dermoskopowej raków podstawnokomórkowych, kolczy
 stokomórkowych i chłoniaków5839_1776873151
DTSTAMP:20260422T155231
Description:
END:VEVENT
END:VCALENDAR
