BEGIN:VCALENDAR
VERSION:2.0
PRODID:-//ZContent.net//ZapCalLib 1.0//EN
CALSCALE:GREGORIAN
METHOD:PUBLISH
BEGIN:VEVENT
SUMMARY:Guzy o niepewnym potencjale złośliwości — czy dermoskopia moż
 e być pomocna?
DTSTART:20201107T111000
DTEND:20201107T122500
UID:Guzy o niepewnym potencjale złośliwości — czy dermoskopia może by
 ć pomocna?5838_1777133309
DTSTAMP:20260425T160829
Description:
END:VEVENT
END:VCALENDAR
