BEGIN:VCALENDAR
VERSION:2.0
PRODID:-//ZContent.net//ZapCalLib 1.0//EN
CALSCALE:GREGORIAN
METHOD:PUBLISH
BEGIN:VEVENT
SUMMARY:Trudne diagnostycznie przypadki czerniaków w dermoskopii
DTSTART:20201107T101000
DTEND:20201107T114000
UID:Trudne diagnostycznie przypadki czerniaków w dermoskopii5836_177713367
 9
DTSTAMP:20260425T161439
Description:
END:VEVENT
END:VCALENDAR
