BEGIN:VCALENDAR
VERSION:2.0
PRODID:-//ZContent.net//ZapCalLib 1.0//EN
CALSCALE:GREGORIAN
METHOD:PUBLISH
BEGIN:VEVENT
SUMMARY:Czerniaki <em>in situ </em>
DTSTART:20201107T095500
DTEND:20201107T111000
UID:Czerniaki <em>in situ </em>5835_1777133213
DTSTAMP:20260425T160653
Description:
END:VEVENT
END:VCALENDAR
