BEGIN:VCALENDAR
VERSION:2.0
PRODID:-//ZContent.net//ZapCalLib 1.0//EN
CALSCALE:GREGORIAN
METHOD:PUBLISH
BEGIN:VEVENT
SUMMARY:Monitorowanie dermoskopowe pacjentów z nowotworami skóry z grupy 
 wysokiego ryzyka
DTSTART:20201107T093000
DTEND:20201107T105500
UID:Monitorowanie dermoskopowe pacjentów z nowotworami skóry z grupy wyso
 kiego ryzyka5834_1776877273
DTSTAMP:20260422T170113
Description:
END:VEVENT
END:VCALENDAR
