BEGIN:VCALENDAR
VERSION:2.0
PRODID:-//ZContent.net//ZapCalLib 1.0//EN
CALSCALE:GREGORIAN
METHOD:PUBLISH
BEGIN:VEVENT
SUMMARY:Testy i triki w dermoskopii
DTSTART:20201107T091500
DTEND:20201107T103000
UID:Testy i triki w dermoskopii5832_1777133804
DTSTAMP:20260425T161644
Description:
END:VEVENT
END:VCALENDAR
