BEGIN:VCALENDAR
VERSION:2.0
PRODID:-//ZContent.net//ZapCalLib 1.0//EN
CALSCALE:GREGORIAN
METHOD:PUBLISH
BEGIN:VEVENT
SUMMARY:Leczenie uzupełniające czerniaka
DTSTART:20201107T090000
DTEND:20201107T101500
UID:Leczenie uzupełniające czerniaka5831_1776848707
DTSTAMP:20260422T090507
Description:
END:VEVENT
END:VCALENDAR
