BEGIN:VCALENDAR
VERSION:2.0
PRODID:-//ZContent.net//ZapCalLib 1.0//EN
CALSCALE:GREGORIAN
METHOD:PUBLISH
BEGIN:VEVENT
SUMMARY:Quiz
DTSTART:20200627T130500
DTEND:20200627T151500
UID:Quiz5791_1776754295
DTSTAMP:20260421T065135
Description:
END:VEVENT
END:VCALENDAR
