BEGIN:VCALENDAR
VERSION:2.0
PRODID:-//ZContent.net//ZapCalLib 1.0//EN
CALSCALE:GREGORIAN
METHOD:PUBLISH
BEGIN:VEVENT
SUMMARY:Dermoskopia zmian nowotworowych w obrÄ™bie aparatu paznokciowego â€
 ” onychoskopia
DTSTART:20200627T124500
DTEND:20200627T150500
UID:Dermoskopia zmian nowotworowych w obrÄ™bie aparatu paznokciowego â€” on
 ychoskopia5790_1777150438
DTSTAMP:20260425T205358
Description:
END:VEVENT
END:VCALENDAR
