BEGIN:VCALENDAR
VERSION:2.0
PRODID:-//ZContent.net//ZapCalLib 1.0//EN
CALSCALE:GREGORIAN
METHOD:PUBLISH
BEGIN:VEVENT
SUMMARY:Przydatkowiaki w dermoskopii
DTSTART:20200627T113500
DTEND:20200627T135500
UID:Przydatkowiaki w dermoskopii5786_1777150541
DTSTAMP:20260425T205541
Description:
END:VEVENT
END:VCALENDAR
