BEGIN:VCALENDAR
VERSION:2.0
PRODID:-//ZContent.net//ZapCalLib 1.0//EN
CALSCALE:GREGORIAN
METHOD:PUBLISH
BEGIN:VEVENT
SUMMARY:Czerwone symulatory czerniaka
DTSTART:20200627T112000
DTEND:20200627T133500
UID:Czerwone symulatory czerniaka5785_1777150324
DTSTAMP:20260425T205204
Description:
END:VEVENT
END:VCALENDAR
