BEGIN:VCALENDAR
VERSION:2.0
PRODID:-//ZContent.net//ZapCalLib 1.0//EN
CALSCALE:GREGORIAN
METHOD:PUBLISH
BEGIN:VEVENT
SUMMARY:Czarne symulatory czerniaka
DTSTART:20200627T110500
DTEND:20200627T132000
UID:Czarne symulatory czerniaka5784_1776845136
DTSTAMP:20260422T080536
Description:
END:VEVENT
END:VCALENDAR
