BEGIN:VCALENDAR
VERSION:2.0
PRODID:-//ZContent.net//ZapCalLib 1.0//EN
CALSCALE:GREGORIAN
METHOD:PUBLISH
BEGIN:VEVENT
SUMMARY:Podstawy diagnostyki dermoskopowej raków podstawnokomórkowych, ko
 lczystokomórkowych i chłoniaków
DTSTART:20200627T102500
DTEND:20200627T130500
UID:Podstawy diagnostyki dermoskopowej raków podstawnokomórkowych, kolczy
 stokomórkowych i chłoniaków5783_1777150257
DTSTAMP:20260425T205057
Description:
END:VEVENT
END:VCALENDAR
