BEGIN:VCALENDAR
VERSION:2.0
PRODID:-//ZContent.net//ZapCalLib 1.0//EN
CALSCALE:GREGORIAN
METHOD:PUBLISH
BEGIN:VEVENT
SUMMARY:Guzy o niepewnym potencjale złośliwości — czy dermoskopia moż
 e być pomocna?
DTSTART:20200627T101000
DTEND:20200627T122500
UID:Guzy o niepewnym potencjale złośliwości — czy dermoskopia może by
 ć pomocna?5782_1777150587
DTSTAMP:20260425T205627
Description:
END:VEVENT
END:VCALENDAR
