BEGIN:VCALENDAR
VERSION:2.0
PRODID:-//ZContent.net//ZapCalLib 1.0//EN
CALSCALE:GREGORIAN
METHOD:PUBLISH
BEGIN:VEVENT
SUMMARY:Trudne diagnostycznie przypadki czerniaków w dermoskopii
DTSTART:20200627T091000
DTEND:20200627T114000
UID:Trudne diagnostycznie przypadki czerniaków w dermoskopii5780_177715058
 2
DTSTAMP:20260425T205622
Description:
END:VEVENT
END:VCALENDAR
