BEGIN:VCALENDAR
VERSION:2.0
PRODID:-//ZContent.net//ZapCalLib 1.0//EN
CALSCALE:GREGORIAN
METHOD:PUBLISH
BEGIN:VEVENT
SUMMARY:Czerniaki <em>in situ </em>
DTSTART:20200627T085500
DTEND:20200627T111000
UID:Czerniaki <em>in situ </em>5779_1777150626
DTSTAMP:20260425T205706
Description:
END:VEVENT
END:VCALENDAR
