BEGIN:VCALENDAR
VERSION:2.0
PRODID:-//ZContent.net//ZapCalLib 1.0//EN
CALSCALE:GREGORIAN
METHOD:PUBLISH
BEGIN:VEVENT
SUMMARY:Monitorowanie dermoskopowe pacjentów z nowotworami skóry z grupy 
 wysokiego ryzyka
DTSTART:20200627T083000
DTEND:20200627T105500
UID:Monitorowanie dermoskopowe pacjentów z nowotworami skóry z grupy wyso
 kiego ryzyka5778_1777150205
DTSTAMP:20260425T205005
Description:
END:VEVENT
END:VCALENDAR
