BEGIN:VCALENDAR
VERSION:2.0
PRODID:-//ZContent.net//ZapCalLib 1.0//EN
CALSCALE:GREGORIAN
METHOD:PUBLISH
BEGIN:VEVENT
SUMMARY:Testy i triki w dermoskopii
DTSTART:20200627T081500
DTEND:20200627T103000
UID:Testy i triki w dermoskopii5776_1776724046
DTSTAMP:20260420T222726
Description:
END:VEVENT
END:VCALENDAR
