BEGIN:VCALENDAR
VERSION:2.0
PRODID:-//ZContent.net//ZapCalLib 1.0//EN
CALSCALE:GREGORIAN
METHOD:PUBLISH
BEGIN:VEVENT
SUMMARY:Leczenie uzupełniające czerniaka
DTSTART:20200627T080000
DTEND:20200627T101500
UID:Leczenie uzupełniające czerniaka5775_1776774265
DTSTAMP:20260421T122425
Description:
END:VEVENT
END:VCALENDAR
