BEGIN:VCALENDAR
VERSION:2.0
PRODID:-//ZContent.net//ZapCalLib 1.0//EN
CALSCALE:GREGORIAN
METHOD:PUBLISH
BEGIN:VEVENT
SUMMARY:Dermoskopia zmian w obrębie błon śluzowych — mukoskopia
DTSTART:20200509T122500
DTEND:20200509T144500
UID:Dermoskopia zmian w obrębie błon śluzowych — mukoskopia5732_177669
 1952
DTSTAMP:20260420T133232
Description:
END:VEVENT
END:VCALENDAR
