BEGIN:VCALENDAR
VERSION:2.0
PRODID:-//ZContent.net//ZapCalLib 1.0//EN
CALSCALE:GREGORIAN
METHOD:PUBLISH
BEGIN:VEVENT
SUMMARY:Przydatkowiaki w dermoskopii
DTSTART:20200509T113500
DTEND:20200509T135500
UID:Przydatkowiaki w dermoskopii5730_1777139167
DTSTAMP:20260425T174607
Description:
END:VEVENT
END:VCALENDAR
