BEGIN:VCALENDAR
VERSION:2.0
PRODID:-//ZContent.net//ZapCalLib 1.0//EN
CALSCALE:GREGORIAN
METHOD:PUBLISH
BEGIN:VEVENT
SUMMARY:Czerwone symulatory czerniaka
DTSTART:20200509T112000
DTEND:20200509T133500
UID:Czerwone symulatory czerniaka5729_1777139124
DTSTAMP:20260425T174524
Description:
END:VEVENT
END:VCALENDAR
