BEGIN:VCALENDAR
VERSION:2.0
PRODID:-//ZContent.net//ZapCalLib 1.0//EN
CALSCALE:GREGORIAN
METHOD:PUBLISH
BEGIN:VEVENT
SUMMARY:Czarne symulatory czerniaka
DTSTART:20200509T110500
DTEND:20200509T132000
UID:Czarne symulatory czerniaka5728_1777139178
DTSTAMP:20260425T174618
Description:
END:VEVENT
END:VCALENDAR
