BEGIN:VCALENDAR
VERSION:2.0
PRODID:-//ZContent.net//ZapCalLib 1.0//EN
CALSCALE:GREGORIAN
METHOD:PUBLISH
BEGIN:VEVENT
SUMMARY:Podstawy diagnostyki dermoskopowej raków podstawnokomórkowych, ko
 lczystokomórkowych i chłoniaków
DTSTART:20200509T102500
DTEND:20200509T130500
UID:Podstawy diagnostyki dermoskopowej raków podstawnokomórkowych, kolczy
 stokomórkowych i chłoniaków5727_1777111325
DTSTAMP:20260425T100205
Description:
END:VEVENT
END:VCALENDAR
