BEGIN:VCALENDAR
VERSION:2.0
PRODID:-//ZContent.net//ZapCalLib 1.0//EN
CALSCALE:GREGORIAN
METHOD:PUBLISH
BEGIN:VEVENT
SUMMARY:Trudne diagnostycznie przypadki czerniaków w dermoskopii
DTSTART:20200509T091000
DTEND:20200509T114000
UID:Trudne diagnostycznie przypadki czerniaków w dermoskopii5724_177713942
 4
DTSTAMP:20260425T175024
Description:
END:VEVENT
END:VCALENDAR
