BEGIN:VCALENDAR
VERSION:2.0
PRODID:-//ZContent.net//ZapCalLib 1.0//EN
CALSCALE:GREGORIAN
METHOD:PUBLISH
BEGIN:VEVENT
SUMMARY:Czerniaki <em>in situ </em>
DTSTART:20200509T085500
DTEND:20200509T111000
UID:Czerniaki <em>in situ </em>5723_1777139343
DTSTAMP:20260425T174903
Description:
END:VEVENT
END:VCALENDAR
