BEGIN:VCALENDAR
VERSION:2.0
PRODID:-//ZContent.net//ZapCalLib 1.0//EN
CALSCALE:GREGORIAN
METHOD:PUBLISH
BEGIN:VEVENT
SUMMARY:Testy i triki w dermoskopii
DTSTART:20200509T081500
DTEND:20200509T103000
UID:Testy i triki w dermoskopii5720_1777139229
DTSTAMP:20260425T174709
Description:
END:VEVENT
END:VCALENDAR
