BEGIN:VCALENDAR
VERSION:2.0
PRODID:-//ZContent.net//ZapCalLib 1.0//EN
CALSCALE:GREGORIAN
METHOD:PUBLISH
BEGIN:VEVENT
SUMMARY:Leczenie uzupełniające czerniaka
DTSTART:20200509T080000
DTEND:20200509T101500
UID:Leczenie uzupełniające czerniaka5719_1776764553
DTSTAMP:20260421T094233
Description:
END:VEVENT
END:VCALENDAR
